BEGIN:VCALENDAR
VERSION:2.0
PRODID:-//Studio East - ECPv6.15.20//NONSGML v1.0//EN
CALSCALE:GREGORIAN
METHOD:PUBLISH
X-WR-CALNAME:Studio East
X-ORIGINAL-URL:https://studio-east.org
X-WR-CALDESC:Events for Studio East
REFRESH-INTERVAL;VALUE=DURATION:PT1H
X-Robots-Tag:noindex
X-PUBLISHED-TTL:PT1H
BEGIN:VTIMEZONE
TZID:America/Los_Angeles
BEGIN:DAYLIGHT
TZOFFSETFROM:-0800
TZOFFSETTO:-0700
TZNAME:PDT
DTSTART:20240310T100000
END:DAYLIGHT
BEGIN:STANDARD
TZOFFSETFROM:-0700
TZOFFSETTO:-0800
TZNAME:PST
DTSTART:20241103T090000
END:STANDARD
BEGIN:DAYLIGHT
TZOFFSETFROM:-0800
TZOFFSETTO:-0700
TZNAME:PDT
DTSTART:20250309T100000
END:DAYLIGHT
BEGIN:STANDARD
TZOFFSETFROM:-0700
TZOFFSETTO:-0800
TZNAME:PST
DTSTART:20251102T090000
END:STANDARD
BEGIN:DAYLIGHT
TZOFFSETFROM:-0800
TZOFFSETTO:-0700
TZNAME:PDT
DTSTART:20260308T100000
END:DAYLIGHT
BEGIN:STANDARD
TZOFFSETFROM:-0700
TZOFFSETTO:-0800
TZNAME:PST
DTSTART:20261101T090000
END:STANDARD
END:VTIMEZONE
BEGIN:VEVENT
DTSTART;TZID=America/Los_Angeles:20250322T140000
DTEND;TZID=America/Los_Angeles:20250322T163000
DTSTAMP:20260421T055840
CREATED:20250228T012003Z
LAST-MODIFIED:20250228T012111Z
UID:14542-1742652000-1742661000@studio-east.org
SUMMARY:Performance: Big Fish
DESCRIPTION:
URL:https://studio-east.org/calendar/performance-big-fish-4/
LOCATION:Studio East\, 10718 NE 68th St\, Kirkland\, WA\, 98033\, United States
CATEGORIES:Big Fish,Performance
END:VEVENT
BEGIN:VEVENT
DTSTART;TZID=America/Los_Angeles:20250322T193000
DTEND;TZID=America/Los_Angeles:20250322T220000
DTSTAMP:20260421T055840
CREATED:20250228T012219Z
LAST-MODIFIED:20250228T012219Z
UID:14544-1742671800-1742680800@studio-east.org
SUMMARY:Performance: Big Fish
DESCRIPTION:
URL:https://studio-east.org/calendar/performance-big-fish-5/
LOCATION:Studio East\, 10718 NE 68th St\, Kirkland\, WA\, 98033\, United States
CATEGORIES:Big Fish,Performance
END:VEVENT
END:VCALENDAR